BEGIN:VCALENDAR
VERSION:2.0
PRODID:-//CUT Hauts de France 59/62 - ECPv6.15.20//NONSGML v1.0//EN
CALSCALE:GREGORIAN
METHOD:PUBLISH
X-ORIGINAL-URL:https://cuthautdefrance5962.fr
X-WR-CALDESC:Évènements pour CUT Hauts de France 59/62
REFRESH-INTERVAL;VALUE=DURATION:PT1H
X-Robots-Tag:noindex
X-PUBLISHED-TTL:PT1H
BEGIN:VTIMEZONE
TZID:Europe/Paris
BEGIN:DAYLIGHT
TZOFFSETFROM:+0100
TZOFFSETTO:+0200
TZNAME:CEST
DTSTART:20200329T010000
END:DAYLIGHT
BEGIN:STANDARD
TZOFFSETFROM:+0200
TZOFFSETTO:+0100
TZNAME:CET
DTSTART:20201025T010000
END:STANDARD
BEGIN:DAYLIGHT
TZOFFSETFROM:+0100
TZOFFSETTO:+0200
TZNAME:CEST
DTSTART:20210328T010000
END:DAYLIGHT
BEGIN:STANDARD
TZOFFSETFROM:+0200
TZOFFSETTO:+0100
TZNAME:CET
DTSTART:20211031T010000
END:STANDARD
BEGIN:DAYLIGHT
TZOFFSETFROM:+0100
TZOFFSETTO:+0200
TZNAME:CEST
DTSTART:20220327T010000
END:DAYLIGHT
BEGIN:STANDARD
TZOFFSETFROM:+0200
TZOFFSETTO:+0100
TZNAME:CET
DTSTART:20221030T010000
END:STANDARD
END:VTIMEZONE
BEGIN:VEVENT
DTSTART;VALUE=DATE:20210206
DTEND;VALUE=DATE:20210208
DTSTAMP:20260423T171041
CREATED:20210102T122502Z
LAST-MODIFIED:20210102T122502Z
UID:2989-1612569600-1612742399@cuthautdefrance5962.fr
SUMMARY:RING-CAMBRAI
DESCRIPTION:
URL:https://cuthautdefrance5962.fr/calendrier/ring-cambrai-5/
LOCATION:CANING CLUB DE CAMBRAI\, Route de Noyelles\, PROVILLE\, Nord\, 59267\, France
CATEGORIES:RING
END:VEVENT
END:VCALENDAR