BEGIN:VCALENDAR
VERSION:2.0
PRODID:-//CUT Hauts de France 59/62 - ECPv6.15.20//NONSGML v1.0//EN
CALSCALE:GREGORIAN
METHOD:PUBLISH
X-ORIGINAL-URL:https://cuthautdefrance5962.fr
X-WR-CALDESC:Évènements pour CUT Hauts de France 59/62
REFRESH-INTERVAL;VALUE=DURATION:PT1H
X-Robots-Tag:noindex
X-PUBLISHED-TTL:PT1H
BEGIN:VTIMEZONE
TZID:Europe/Paris
BEGIN:DAYLIGHT
TZOFFSETFROM:+0100
TZOFFSETTO:+0200
TZNAME:CEST
DTSTART:20190331T010000
END:DAYLIGHT
BEGIN:STANDARD
TZOFFSETFROM:+0200
TZOFFSETTO:+0100
TZNAME:CET
DTSTART:20191027T010000
END:STANDARD
BEGIN:DAYLIGHT
TZOFFSETFROM:+0100
TZOFFSETTO:+0200
TZNAME:CEST
DTSTART:20200329T010000
END:DAYLIGHT
BEGIN:STANDARD
TZOFFSETFROM:+0200
TZOFFSETTO:+0100
TZNAME:CET
DTSTART:20201025T010000
END:STANDARD
BEGIN:DAYLIGHT
TZOFFSETFROM:+0100
TZOFFSETTO:+0200
TZNAME:CEST
DTSTART:20210328T010000
END:DAYLIGHT
BEGIN:STANDARD
TZOFFSETFROM:+0200
TZOFFSETTO:+0100
TZNAME:CET
DTSTART:20211031T010000
END:STANDARD
END:VTIMEZONE
BEGIN:VEVENT
DTSTART;VALUE=DATE:20200919
DTEND;VALUE=DATE:20200921
DTSTAMP:20260423T075722
CREATED:20191230T174156Z
LAST-MODIFIED:20191230T174156Z
UID:2727-1600473600-1600646399@cuthautdefrance5962.fr
SUMMARY:RING -  GRANDE SYNTHE
DESCRIPTION:
URL:https://cuthautdefrance5962.fr/calendrier/ring-grande-synthe-6/
LOCATION:OGS AMICALE CANINE\, Stade Léon Détailleur\, GRANDE-SYNTHE\, Nord\, 59760\, France
CATEGORIES:RING
END:VEVENT
BEGIN:VEVENT
DTSTART;VALUE=DATE:20200919
DTEND;VALUE=DATE:20200921
DTSTAMP:20260423T075722
CREATED:20191230T174620Z
LAST-MODIFIED:20191230T174620Z
UID:2737-1600473600-1600646399@cuthautdefrance5962.fr
SUMMARY:RING - E.C.WATTRELOSIENNE
DESCRIPTION:
URL:https://cuthautdefrance5962.fr/calendrier/ring-e-c-wattrelosienne-2/
LOCATION:EDUCATION CANINE WATTRELOSIENNE\, 1 Rue de la Martelotte\, WATTRELOS\, Nord\, 59150\, France
CATEGORIES:RING
END:VEVENT
END:VCALENDAR