BEGIN:VCALENDAR
VERSION:2.0
PRODID:-//CUT Hauts de France 59/62 - ECPv6.15.20//NONSGML v1.0//EN
CALSCALE:GREGORIAN
METHOD:PUBLISH
X-ORIGINAL-URL:https://cuthautdefrance5962.fr
X-WR-CALDESC:Évènements pour CUT Hauts de France 59/62
REFRESH-INTERVAL;VALUE=DURATION:PT1H
X-Robots-Tag:noindex
X-PUBLISHED-TTL:PT1H
BEGIN:VTIMEZONE
TZID:Europe/Paris
BEGIN:DAYLIGHT
TZOFFSETFROM:+0100
TZOFFSETTO:+0200
TZNAME:CEST
DTSTART:20190331T010000
END:DAYLIGHT
BEGIN:STANDARD
TZOFFSETFROM:+0200
TZOFFSETTO:+0100
TZNAME:CET
DTSTART:20191027T010000
END:STANDARD
BEGIN:DAYLIGHT
TZOFFSETFROM:+0100
TZOFFSETTO:+0200
TZNAME:CEST
DTSTART:20200329T010000
END:DAYLIGHT
BEGIN:STANDARD
TZOFFSETFROM:+0200
TZOFFSETTO:+0100
TZNAME:CET
DTSTART:20201025T010000
END:STANDARD
BEGIN:DAYLIGHT
TZOFFSETFROM:+0100
TZOFFSETTO:+0200
TZNAME:CEST
DTSTART:20210328T010000
END:DAYLIGHT
BEGIN:STANDARD
TZOFFSETFROM:+0200
TZOFFSETTO:+0100
TZNAME:CET
DTSTART:20211031T010000
END:STANDARD
END:VTIMEZONE
BEGIN:VEVENT
DTSTART;VALUE=DATE:20200613
DTEND;VALUE=DATE:20200615
DTSTAMP:20260423T123539
CREATED:20191230T171453Z
LAST-MODIFIED:20191230T171453Z
UID:2671-1592006400-1592179199@cuthautdefrance5962.fr
SUMMARY:RING - BLAIRVILLE
DESCRIPTION:
URL:https://cuthautdefrance5962.fr/calendrier/ring-blairville-3/
LOCATION:CLUB D’EDUCATION CANINE DES VERTES VALLEES\, Voie de Rivière\, BLAIRVILLE\, Pas de Calais\, 62173 \, France
CATEGORIES:RING
END:VEVENT
END:VCALENDAR