BEGIN:VCALENDAR
VERSION:2.0
PRODID:-//CUT Hauts de France 59/62 - ECPv6.15.20//NONSGML v1.0//EN
CALSCALE:GREGORIAN
METHOD:PUBLISH
X-ORIGINAL-URL:https://cuthautdefrance5962.fr
X-WR-CALDESC:Évènements pour CUT Hauts de France 59/62
REFRESH-INTERVAL;VALUE=DURATION:PT1H
X-Robots-Tag:noindex
X-PUBLISHED-TTL:PT1H
BEGIN:VTIMEZONE
TZID:Europe/Paris
BEGIN:DAYLIGHT
TZOFFSETFROM:+0100
TZOFFSETTO:+0200
TZNAME:CEST
DTSTART:20180325T010000
END:DAYLIGHT
BEGIN:STANDARD
TZOFFSETFROM:+0200
TZOFFSETTO:+0100
TZNAME:CET
DTSTART:20181028T010000
END:STANDARD
BEGIN:DAYLIGHT
TZOFFSETFROM:+0100
TZOFFSETTO:+0200
TZNAME:CEST
DTSTART:20190331T010000
END:DAYLIGHT
BEGIN:STANDARD
TZOFFSETFROM:+0200
TZOFFSETTO:+0100
TZNAME:CET
DTSTART:20191027T010000
END:STANDARD
BEGIN:DAYLIGHT
TZOFFSETFROM:+0100
TZOFFSETTO:+0200
TZNAME:CEST
DTSTART:20200329T010000
END:DAYLIGHT
BEGIN:STANDARD
TZOFFSETFROM:+0200
TZOFFSETTO:+0100
TZNAME:CET
DTSTART:20201025T010000
END:STANDARD
END:VTIMEZONE
BEGIN:VEVENT
DTSTART;VALUE=DATE:20190921
DTEND;VALUE=DATE:20190923
DTSTAMP:20260424T143522
CREATED:20181227T161900Z
LAST-MODIFIED:20181227T161900Z
UID:2363-1569024000-1569196799@cuthautdefrance5962.fr
SUMMARY:FORMATION HA - MAUBEUGE
DESCRIPTION:
URL:https://cuthautdefrance5962.fr/calendrier/formation-ha-maubeuge/
LOCATION:EMULATION CANINE MAUBEUGEOISE\, Rue du Faubourg Ste Aldegonde\, Stade du Glacis\, ROUSSIES\, Nord\, 59131 \, France
CATEGORIES:RING
END:VEVENT
END:VCALENDAR