BEGIN:VCALENDAR
VERSION:2.0
PRODID:-//CUT Hauts de France 59/62 - ECPv6.15.20//NONSGML v1.0//EN
CALSCALE:GREGORIAN
METHOD:PUBLISH
X-WR-CALNAME:CUT Hauts de France 59/62
X-ORIGINAL-URL:https://cuthautdefrance5962.fr
X-WR-CALDESC:Évènements pour CUT Hauts de France 59/62
REFRESH-INTERVAL;VALUE=DURATION:PT1H
X-Robots-Tag:noindex
X-PUBLISHED-TTL:PT1H
BEGIN:VTIMEZONE
TZID:Europe/Paris
BEGIN:DAYLIGHT
TZOFFSETFROM:+0100
TZOFFSETTO:+0200
TZNAME:CEST
DTSTART:20220327T010000
END:DAYLIGHT
BEGIN:STANDARD
TZOFFSETFROM:+0200
TZOFFSETTO:+0100
TZNAME:CET
DTSTART:20221030T010000
END:STANDARD
BEGIN:DAYLIGHT
TZOFFSETFROM:+0100
TZOFFSETTO:+0200
TZNAME:CEST
DTSTART:20230326T010000
END:DAYLIGHT
BEGIN:STANDARD
TZOFFSETFROM:+0200
TZOFFSETTO:+0100
TZNAME:CET
DTSTART:20231029T010000
END:STANDARD
BEGIN:DAYLIGHT
TZOFFSETFROM:+0100
TZOFFSETTO:+0200
TZNAME:CEST
DTSTART:20240331T010000
END:DAYLIGHT
BEGIN:STANDARD
TZOFFSETFROM:+0200
TZOFFSETTO:+0100
TZNAME:CET
DTSTART:20241027T010000
END:STANDARD
END:VTIMEZONE
BEGIN:VEVENT
DTSTART;VALUE=DATE:20230107
DTEND;VALUE=DATE:20230108
DTSTAMP:20260426T052738
CREATED:20230103T160438Z
LAST-MODIFIED:20230103T160514Z
UID:3759-1673049600-1673135999@cuthautdefrance5962.fr
SUMMARY:REUNION DES JUGES RING
DESCRIPTION:
URL:https://cuthautdefrance5962.fr/calendrier/reunion-des-juges-ring/
LOCATION:Nord
CATEGORIES:RING
END:VEVENT
BEGIN:VEVENT
DTSTART;VALUE=DATE:20230121
DTEND;VALUE=DATE:20230123
DTSTAMP:20260426T052738
CREATED:20230103T160643Z
LAST-MODIFIED:20230103T160658Z
UID:3761-1674259200-1674431999@cuthautdefrance5962.fr
SUMMARY:RING - HELLEMMES
DESCRIPTION:
URL:https://cuthautdefrance5962.fr/calendrier/eing-hellemmes/
LOCATION:CLUB D’EDUCATION CANINE D’HELLEMMES\, Impasse Paul Kime\, HELLEMMES\, Nord\, 59260\, France
CATEGORIES:RING
END:VEVENT
END:VCALENDAR