BEGIN:VCALENDAR
VERSION:2.0
PRODID:-//CUT Hauts de France 59/62 - ECPv6.15.20//NONSGML v1.0//EN
CALSCALE:GREGORIAN
METHOD:PUBLISH
X-WR-CALNAME:CUT Hauts de France 59/62
X-ORIGINAL-URL:https://cuthautdefrance5962.fr
X-WR-CALDESC:Évènements pour CUT Hauts de France 59/62
REFRESH-INTERVAL;VALUE=DURATION:PT1H
X-Robots-Tag:noindex
X-PUBLISHED-TTL:PT1H
BEGIN:VTIMEZONE
TZID:Europe/Paris
BEGIN:DAYLIGHT
TZOFFSETFROM:+0100
TZOFFSETTO:+0200
TZNAME:CEST
DTSTART:20210328T010000
END:DAYLIGHT
BEGIN:STANDARD
TZOFFSETFROM:+0200
TZOFFSETTO:+0100
TZNAME:CET
DTSTART:20211031T010000
END:STANDARD
BEGIN:DAYLIGHT
TZOFFSETFROM:+0100
TZOFFSETTO:+0200
TZNAME:CEST
DTSTART:20220327T010000
END:DAYLIGHT
BEGIN:STANDARD
TZOFFSETFROM:+0200
TZOFFSETTO:+0100
TZNAME:CET
DTSTART:20221030T010000
END:STANDARD
BEGIN:DAYLIGHT
TZOFFSETFROM:+0100
TZOFFSETTO:+0200
TZNAME:CEST
DTSTART:20230326T010000
END:DAYLIGHT
BEGIN:STANDARD
TZOFFSETFROM:+0200
TZOFFSETTO:+0100
TZNAME:CET
DTSTART:20231029T010000
END:STANDARD
END:VTIMEZONE
BEGIN:VEVENT
DTSTART;VALUE=DATE:20221104
DTEND;VALUE=DATE:20221107
DTSTAMP:20260426T021728
CREATED:20220103T183229Z
LAST-MODIFIED:20220103T183229Z
UID:3574-1667520000-1667779199@cuthautdefrance5962.fr
SUMMARY:RING - RENAULT DOUAI
DESCRIPTION:
URL:https://cuthautdefrance5962.fr/calendrier/ring-renault-douai-9/
LOCATION:CLUB DU CHIEN DE DEFENSE RENAULT DOUAI\, Chemin des Postes\, CUINCY\, Nord\, 59553\, France
CATEGORIES:RING
END:VEVENT
BEGIN:VEVENT
DTSTART;VALUE=DATE:20221111
DTEND;VALUE=DATE:20221114
DTSTAMP:20260426T021728
CREATED:20220103T183404Z
LAST-MODIFIED:20220103T183404Z
UID:3578-1668124800-1668383999@cuthautdefrance5962.fr
SUMMARY:RING/MONDIO -  SALOME
DESCRIPTION:
URL:https://cuthautdefrance5962.fr/calendrier/ring-mondio-salome/
LOCATION:CLUB DE CHIENS DE DEFENSE ET DE POLICE DE SALOME\, rue Jean Delattre\, SALOME\, 59496\, France
CATEGORIES:MONDIORING,RING
END:VEVENT
BEGIN:VEVENT
DTSTART;VALUE=DATE:20221113
DTEND;VALUE=DATE:20221114
DTSTAMP:20260426T021728
CREATED:20220103T181917Z
LAST-MODIFIED:20220905T093044Z
UID:3548-1668297600-1668383999@cuthautdefrance5962.fr
SUMMARY:RING - GRANDE SYNTHE
DESCRIPTION:
URL:https://cuthautdefrance5962.fr/calendrier/ring-grande-synthe-12/
LOCATION:OGS AMICALE CANINE\, Stade Léon Détailleur\, GRANDE-SYNTHE\, Nord\, 59760\, France
CATEGORIES:RING
END:VEVENT
BEGIN:VEVENT
DTSTART;VALUE=DATE:20221119
DTEND;VALUE=DATE:20221121
DTSTAMP:20260426T021728
CREATED:20220103T183542Z
LAST-MODIFIED:20220103T183542Z
UID:3582-1668816000-1668988799@cuthautdefrance5962.fr
SUMMARY:RING - ORCHIES UC
DESCRIPTION:
URL:https://cuthautdefrance5962.fr/calendrier/ring-orchies-uc/
LOCATION:CLUB CYNOPHILE D’ORCHIES\, Stade Municipal d'Orchies\, ORCHIES\, Nord\, 59310\, France
CATEGORIES:RING
END:VEVENT
END:VCALENDAR