BEGIN:VCALENDAR
VERSION:2.0
PRODID:-//CUT Hauts de France 59/62 - ECPv6.15.20//NONSGML v1.0//EN
CALSCALE:GREGORIAN
METHOD:PUBLISH
X-WR-CALNAME:CUT Hauts de France 59/62
X-ORIGINAL-URL:https://cuthautdefrance5962.fr
X-WR-CALDESC:Évènements pour CUT Hauts de France 59/62
REFRESH-INTERVAL;VALUE=DURATION:PT1H
X-Robots-Tag:noindex
X-PUBLISHED-TTL:PT1H
BEGIN:VTIMEZONE
TZID:Europe/Paris
BEGIN:DAYLIGHT
TZOFFSETFROM:+0100
TZOFFSETTO:+0200
TZNAME:CEST
DTSTART:20210328T010000
END:DAYLIGHT
BEGIN:STANDARD
TZOFFSETFROM:+0200
TZOFFSETTO:+0100
TZNAME:CET
DTSTART:20211031T010000
END:STANDARD
BEGIN:DAYLIGHT
TZOFFSETFROM:+0100
TZOFFSETTO:+0200
TZNAME:CEST
DTSTART:20220327T010000
END:DAYLIGHT
BEGIN:STANDARD
TZOFFSETFROM:+0200
TZOFFSETTO:+0100
TZNAME:CET
DTSTART:20221030T010000
END:STANDARD
BEGIN:DAYLIGHT
TZOFFSETFROM:+0100
TZOFFSETTO:+0200
TZNAME:CEST
DTSTART:20230326T010000
END:DAYLIGHT
BEGIN:STANDARD
TZOFFSETFROM:+0200
TZOFFSETTO:+0100
TZNAME:CET
DTSTART:20231029T010000
END:STANDARD
END:VTIMEZONE
BEGIN:VEVENT
DTSTART;VALUE=DATE:20220604
DTEND;VALUE=DATE:20220606
DTSTAMP:20260425T142420
CREATED:20220103T175400Z
LAST-MODIFIED:20220103T175400Z
UID:3494-1654300800-1654473599@cuthautdefrance5962.fr
SUMMARY:RING - ARMENTIERES
DESCRIPTION:
URL:https://cuthautdefrance5962.fr/calendrier/ring-armentieres-5/
LOCATION:AMIS DU CHIEN DE DEFENSE D’ARMENTIERES\, Complexe sportif Léo Lagrange\, ARMENTIERES\, Nord\, 59280\, France
CATEGORIES:RING
END:VEVENT
BEGIN:VEVENT
DTSTART;VALUE=DATE:20220611
DTEND;VALUE=DATE:20220613
DTSTAMP:20260425T142420
CREATED:20220103T175858Z
LAST-MODIFIED:20220103T175858Z
UID:3503-1654905600-1655078399@cuthautdefrance5962.fr
SUMMARY:RING - BILLY MONTINY
DESCRIPTION:
URL:https://cuthautdefrance5962.fr/calendrier/ring-billy-montiny/
LOCATION:CARABINIERS DE BILLY MONTIGNY EDUCATION CANINE\, Avenue du 1er Mai\, complexe sportif Lucien Delannoy\, BILLY MONTIGNY\, Pas de Calais\, 62420 \, France
CATEGORIES:RING
END:VEVENT
BEGIN:VEVENT
DTSTART;VALUE=DATE:20220612
DTEND;VALUE=DATE:20220613
DTSTAMP:20260425T142420
CREATED:20220103T180043Z
LAST-MODIFIED:20220103T180043Z
UID:3507-1654992000-1655078399@cuthautdefrance5962.fr
SUMMARY:RING - E.C WATTRELOSIENNE
DESCRIPTION:
URL:https://cuthautdefrance5962.fr/calendrier/ring-e-c-wattrelosienne-3/
LOCATION:EDUCATION CANINE WATTRELOSIENNE\, 1 Rue de la Martelotte\, WATTRELOS\, Nord\, 59150\, France
CATEGORIES:RING
END:VEVENT
BEGIN:VEVENT
DTSTART;VALUE=DATE:20220625
DTEND;VALUE=DATE:20220627
DTSTAMP:20260425T142420
CREATED:20220103T180135Z
LAST-MODIFIED:20220614T170552Z
UID:3509-1656115200-1656287999@cuthautdefrance5962.fr
SUMMARY:CHAMPIONNAT DE FRANCE RING
DESCRIPTION:
URL:https://cuthautdefrance5962.fr/calendrier/championnat-de-france-ring/
LOCATION:Nord
CATEGORIES:RING
END:VEVENT
END:VCALENDAR