BEGIN:VCALENDAR
VERSION:2.0
PRODID:-//CUT Hauts de France 59/62 - ECPv6.15.20//NONSGML v1.0//EN
CALSCALE:GREGORIAN
METHOD:PUBLISH
X-ORIGINAL-URL:https://cuthautdefrance5962.fr
X-WR-CALDESC:Évènements pour CUT Hauts de France 59/62
REFRESH-INTERVAL;VALUE=DURATION:PT1H
X-Robots-Tag:noindex
X-PUBLISHED-TTL:PT1H
BEGIN:VTIMEZONE
TZID:Europe/Paris
BEGIN:DAYLIGHT
TZOFFSETFROM:+0100
TZOFFSETTO:+0200
TZNAME:CEST
DTSTART:20200329T010000
END:DAYLIGHT
BEGIN:STANDARD
TZOFFSETFROM:+0200
TZOFFSETTO:+0100
TZNAME:CET
DTSTART:20201025T010000
END:STANDARD
BEGIN:DAYLIGHT
TZOFFSETFROM:+0100
TZOFFSETTO:+0200
TZNAME:CEST
DTSTART:20210328T010000
END:DAYLIGHT
BEGIN:STANDARD
TZOFFSETFROM:+0200
TZOFFSETTO:+0100
TZNAME:CET
DTSTART:20211031T010000
END:STANDARD
BEGIN:DAYLIGHT
TZOFFSETFROM:+0100
TZOFFSETTO:+0200
TZNAME:CEST
DTSTART:20220327T010000
END:DAYLIGHT
BEGIN:STANDARD
TZOFFSETFROM:+0200
TZOFFSETTO:+0100
TZNAME:CET
DTSTART:20221030T010000
END:STANDARD
END:VTIMEZONE
BEGIN:VEVENT
DTSTART;VALUE=DATE:20210703
DTEND;VALUE=DATE:20210705
DTSTAMP:20260424T034122
CREATED:20210102T131116Z
LAST-MODIFIED:20210102T131116Z
UID:3078-1625270400-1625443199@cuthautdefrance5962.fr
SUMMARY:RING-LAMBRES LES AIRE
DESCRIPTION:
URL:https://cuthautdefrance5962.fr/calendrier/ring-lambres-les-aire/
LOCATION:BERGER CLUB DE LAMBRES LES AIRE\, 520-528 Allée de l'Etang\, LAMBRES\, Pas de Calais\, 62120 \, France
CATEGORIES:RING
END:VEVENT
BEGIN:VEVENT
DTSTART;VALUE=DATE:20210710
DTEND;VALUE=DATE:20210712
DTSTAMP:20260424T034122
CREATED:20210102T131242Z
LAST-MODIFIED:20210102T131242Z
UID:3082-1625875200-1626047999@cuthautdefrance5962.fr
SUMMARY:RING-COULOGNE
DESCRIPTION:
URL:https://cuthautdefrance5962.fr/calendrier/ring-coulogne-4/
LOCATION:SPORTS ET LOISIRS CANINS « COULOGNE »\, COMPLEXE SPORTIF DES SAULES RUE DES SAULES\, COULOGNE\, Pas de Calais\, 62137\, France
CATEGORIES:RING
END:VEVENT
BEGIN:VEVENT
DTSTART;TZID=Europe/Paris:20210710T080000
DTEND;TZID=Europe/Paris:20210711T170000
DTSTAMP:20260424T034122
CREATED:20210102T131322Z
LAST-MODIFIED:20210102T131322Z
UID:3084-1625904000-1626022800@cuthautdefrance5962.fr
SUMMARY:RING-DENAIN
DESCRIPTION:
URL:https://cuthautdefrance5962.fr/calendrier/ring-denain-4/
LOCATION:LOUP DENAISIEN\, Chemin du Halage\, Parc Emile Zola\, DENAIN\, Nord\, 59220\, France
CATEGORIES:RING
END:VEVENT
BEGIN:VEVENT
DTSTART;VALUE=DATE:20210724
DTEND;VALUE=DATE:20210726
DTSTAMP:20260424T034122
CREATED:20210102T131401Z
LAST-MODIFIED:20210102T131401Z
UID:3086-1627084800-1627257599@cuthautdefrance5962.fr
SUMMARY:RING-OYE PLAGE
DESCRIPTION:
URL:https://cuthautdefrance5962.fr/calendrier/ring-oye-plage-5/
LOCATION:AMICALE CANINE DE OYE PLAGE\, 1374\, route de Waldam\, OYE PLAGE\, Pas de Calais\, 62215\, France
CATEGORIES:RING
END:VEVENT
BEGIN:VEVENT
DTSTART;VALUE=DATE:20210724
DTEND;VALUE=DATE:20210726
DTSTAMP:20260424T034122
CREATED:20210102T131437Z
LAST-MODIFIED:20210102T131437Z
UID:3088-1627084800-1627257599@cuthautdefrance5962.fr
SUMMARY:RING-EMERCHICOURT
DESCRIPTION:
URL:https://cuthautdefrance5962.fr/calendrier/ring-emerchicourt-3/
LOCATION:CLUB CANIN D’EMERCHICOURT\, Angle des rues de Landeau et d'Azincourt\, EMERCHICOURT\, Nord\, 59580\, France
CATEGORIES:RING
END:VEVENT
BEGIN:VEVENT
DTSTART;VALUE=DATE:20210724
DTEND;VALUE=DATE:20210726
DTSTAMP:20260424T034122
CREATED:20210517T163601Z
LAST-MODIFIED:20210517T163601Z
UID:3264-1627084800-1627257599@cuthautdefrance5962.fr
SUMMARY:RING-EMERCHICOURT
DESCRIPTION:
URL:https://cuthautdefrance5962.fr/calendrier/ring-emerchicourt-4/
LOCATION:CLUB CANIN D’EMERCHICOURT\, Angle des rues de Landeau et d'Azincourt\, EMERCHICOURT\, Nord\, 59580\, France
CATEGORIES:RING
END:VEVENT
END:VCALENDAR