BEGIN:VCALENDAR
VERSION:2.0
PRODID:-//CUT Hauts de France 59/62 - ECPv6.15.20//NONSGML v1.0//EN
CALSCALE:GREGORIAN
METHOD:PUBLISH
X-ORIGINAL-URL:https://cuthautdefrance5962.fr
X-WR-CALDESC:Évènements pour CUT Hauts de France 59/62
REFRESH-INTERVAL;VALUE=DURATION:PT1H
X-Robots-Tag:noindex
X-PUBLISHED-TTL:PT1H
BEGIN:VTIMEZONE
TZID:Europe/Paris
BEGIN:DAYLIGHT
TZOFFSETFROM:+0100
TZOFFSETTO:+0200
TZNAME:CEST
DTSTART:20190331T010000
END:DAYLIGHT
BEGIN:STANDARD
TZOFFSETFROM:+0200
TZOFFSETTO:+0100
TZNAME:CET
DTSTART:20191027T010000
END:STANDARD
BEGIN:DAYLIGHT
TZOFFSETFROM:+0100
TZOFFSETTO:+0200
TZNAME:CEST
DTSTART:20200329T010000
END:DAYLIGHT
BEGIN:STANDARD
TZOFFSETFROM:+0200
TZOFFSETTO:+0100
TZNAME:CET
DTSTART:20201025T010000
END:STANDARD
BEGIN:DAYLIGHT
TZOFFSETFROM:+0100
TZOFFSETTO:+0200
TZNAME:CEST
DTSTART:20210328T010000
END:DAYLIGHT
BEGIN:STANDARD
TZOFFSETFROM:+0200
TZOFFSETTO:+0100
TZNAME:CET
DTSTART:20211031T010000
END:STANDARD
END:VTIMEZONE
BEGIN:VEVENT
DTSTART;VALUE=DATE:20201107
DTEND;VALUE=DATE:20201109
DTSTAMP:20260423T105806
CREATED:20191230T175624Z
LAST-MODIFIED:20191230T175624Z
UID:2758-1604707200-1604879999@cuthautdefrance5962.fr
SUMMARY:RING - LA MADELEINE
DESCRIPTION:
URL:https://cuthautdefrance5962.fr/calendrier/ring-la-madeleine-4/
LOCATION:CLUB CYNOPHILE MADELEINOIS\, 3 chemin de Wervicq\, MARQUETTE LEZ LILLE\, Nord\, 59520\, France
CATEGORIES:RING
END:VEVENT
BEGIN:VEVENT
DTSTART;VALUE=DATE:20201121
DTEND;VALUE=DATE:20201123
DTSTAMP:20260423T105806
CREATED:20191230T174505Z
LAST-MODIFIED:20200808T111209Z
UID:2735-1605916800-1606089599@cuthautdefrance5962.fr
SUMMARY:RING - RENAULT DOUAI
DESCRIPTION:
URL:https://cuthautdefrance5962.fr/calendrier/ring-renault-douai-6/
LOCATION:CLUB DU CHIEN DE DEFENSE RENAULT DOUAI\, Chemin des Postes\, CUINCY\, Nord\, 59553\, France
CATEGORIES:RING
END:VEVENT
BEGIN:VEVENT
DTSTART;VALUE=DATE:20201128
DTEND;VALUE=DATE:20201130
DTSTAMP:20260423T105806
CREATED:20191230T175856Z
LAST-MODIFIED:20191230T175856Z
UID:2764-1606521600-1606694399@cuthautdefrance5962.fr
SUMMARY:RING - UAC ORCHIES
DESCRIPTION:
URL:https://cuthautdefrance5962.fr/calendrier/ring-uac-orchies-2/
LOCATION:CLUB CYNOPHILE D’ORCHIES\, Stade Municipal d'Orchies\, ORCHIES\, Nord\, 59310\, France
CATEGORIES:RING
END:VEVENT
END:VCALENDAR