BEGIN:VCALENDAR
VERSION:2.0
PRODID:-//CUT Hauts de France 59/62 - ECPv6.15.20//NONSGML v1.0//EN
CALSCALE:GREGORIAN
METHOD:PUBLISH
X-WR-CALNAME:CUT Hauts de France 59/62
X-ORIGINAL-URL:https://cuthautdefrance5962.fr
X-WR-CALDESC:Évènements pour CUT Hauts de France 59/62
REFRESH-INTERVAL;VALUE=DURATION:PT1H
X-Robots-Tag:noindex
X-PUBLISHED-TTL:PT1H
BEGIN:VTIMEZONE
TZID:Europe/Paris
BEGIN:DAYLIGHT
TZOFFSETFROM:+0100
TZOFFSETTO:+0200
TZNAME:CEST
DTSTART:20190331T010000
END:DAYLIGHT
BEGIN:STANDARD
TZOFFSETFROM:+0200
TZOFFSETTO:+0100
TZNAME:CET
DTSTART:20191027T010000
END:STANDARD
BEGIN:DAYLIGHT
TZOFFSETFROM:+0100
TZOFFSETTO:+0200
TZNAME:CEST
DTSTART:20200329T010000
END:DAYLIGHT
BEGIN:STANDARD
TZOFFSETFROM:+0200
TZOFFSETTO:+0100
TZNAME:CET
DTSTART:20201025T010000
END:STANDARD
BEGIN:DAYLIGHT
TZOFFSETFROM:+0100
TZOFFSETTO:+0200
TZNAME:CEST
DTSTART:20210328T010000
END:DAYLIGHT
BEGIN:STANDARD
TZOFFSETFROM:+0200
TZOFFSETTO:+0100
TZNAME:CET
DTSTART:20211031T010000
END:STANDARD
END:VTIMEZONE
BEGIN:VEVENT
DTSTART;VALUE=DATE:20200411
DTEND;VALUE=DATE:20200413
DTSTAMP:20260423T122529
CREATED:20191230T165122Z
LAST-MODIFIED:20191230T165122Z
UID:2634-1586563200-1586735999@cuthautdefrance5962.fr
SUMMARY:RING - GRANDE SYNTHE
DESCRIPTION:
URL:https://cuthautdefrance5962.fr/calendrier/ring-grande-synthe-5/
LOCATION:OGS AMICALE CANINE\, Stade Léon Détailleur\, GRANDE-SYNTHE\, Nord\, 59760\, France
CATEGORIES:RING
END:VEVENT
BEGIN:VEVENT
DTSTART;VALUE=DATE:20200418
DTEND;VALUE=DATE:20200420
DTSTAMP:20260423T122529
CREATED:20191230T165812Z
LAST-MODIFIED:20191230T165821Z
UID:2638-1587168000-1587340799@cuthautdefrance5962.fr
SUMMARY:2e SELECTIF RING - LOMME
DESCRIPTION:
URL:https://cuthautdefrance5962.fr/calendrier/2e-selectif-ring-lomme/
LOCATION:Nord
CATEGORIES:RING
END:VEVENT
END:VCALENDAR