BEGIN:VCALENDAR
VERSION:2.0
PRODID:-//CUT Hauts de France 59/62 - ECPv6.15.20//NONSGML v1.0//EN
CALSCALE:GREGORIAN
METHOD:PUBLISH
X-WR-CALNAME:CUT Hauts de France 59/62
X-ORIGINAL-URL:https://cuthautdefrance5962.fr
X-WR-CALDESC:Évènements pour CUT Hauts de France 59/62
REFRESH-INTERVAL;VALUE=DURATION:PT1H
X-Robots-Tag:noindex
X-PUBLISHED-TTL:PT1H
BEGIN:VTIMEZONE
TZID:Europe/Paris
BEGIN:DAYLIGHT
TZOFFSETFROM:+0100
TZOFFSETTO:+0200
TZNAME:CEST
DTSTART:20190331T010000
END:DAYLIGHT
BEGIN:STANDARD
TZOFFSETFROM:+0200
TZOFFSETTO:+0100
TZNAME:CET
DTSTART:20191027T010000
END:STANDARD
BEGIN:DAYLIGHT
TZOFFSETFROM:+0100
TZOFFSETTO:+0200
TZNAME:CEST
DTSTART:20200329T010000
END:DAYLIGHT
BEGIN:STANDARD
TZOFFSETFROM:+0200
TZOFFSETTO:+0100
TZNAME:CET
DTSTART:20201025T010000
END:STANDARD
BEGIN:DAYLIGHT
TZOFFSETFROM:+0100
TZOFFSETTO:+0200
TZNAME:CEST
DTSTART:20210328T010000
END:DAYLIGHT
BEGIN:STANDARD
TZOFFSETFROM:+0200
TZOFFSETTO:+0100
TZNAME:CET
DTSTART:20211031T010000
END:STANDARD
END:VTIMEZONE
BEGIN:VEVENT
DTSTART;VALUE=DATE:20200307
DTEND;VALUE=DATE:20200309
DTSTAMP:20260423T135351
CREATED:20191230T164530Z
LAST-MODIFIED:20191230T164530Z
UID:2626-1583539200-1583711999@cuthautdefrance5962.fr
SUMMARY:RING - CUCQ
DESCRIPTION:
URL:https://cuthautdefrance5962.fr/calendrier/ring-cucq-4/
LOCATION:A.S. CUCQ SPORT CANIN 62\, Espace Camille Boulogne\, CUCQ\, Pas de Calais\, 62780\, France
CATEGORIES:RING
END:VEVENT
BEGIN:VEVENT
DTSTART;VALUE=DATE:20200321
DTEND;VALUE=DATE:20200323
DTSTAMP:20260423T135351
CREATED:20191230T164640Z
LAST-MODIFIED:20191230T164640Z
UID:2628-1584748800-1584921599@cuthautdefrance5962.fr
SUMMARY:1er SELECTIF RING
DESCRIPTION:
URL:https://cuthautdefrance5962.fr/calendrier/1er-selectif-ring/
LOCATION:Nord
CATEGORIES:RING
END:VEVENT
END:VCALENDAR