BEGIN:VCALENDAR
VERSION:2.0
PRODID:-//CUT Hauts de France 59/62 - ECPv6.15.20//NONSGML v1.0//EN
CALSCALE:GREGORIAN
METHOD:PUBLISH
X-WR-CALNAME:CUT Hauts de France 59/62
X-ORIGINAL-URL:https://cuthautdefrance5962.fr
X-WR-CALDESC:Évènements pour CUT Hauts de France 59/62
REFRESH-INTERVAL;VALUE=DURATION:PT1H
X-Robots-Tag:noindex
X-PUBLISHED-TTL:PT1H
BEGIN:VTIMEZONE
TZID:Europe/Paris
BEGIN:DAYLIGHT
TZOFFSETFROM:+0100
TZOFFSETTO:+0200
TZNAME:CEST
DTSTART:20190331T010000
END:DAYLIGHT
BEGIN:STANDARD
TZOFFSETFROM:+0200
TZOFFSETTO:+0100
TZNAME:CET
DTSTART:20191027T010000
END:STANDARD
BEGIN:DAYLIGHT
TZOFFSETFROM:+0100
TZOFFSETTO:+0200
TZNAME:CEST
DTSTART:20200329T010000
END:DAYLIGHT
BEGIN:STANDARD
TZOFFSETFROM:+0200
TZOFFSETTO:+0100
TZNAME:CET
DTSTART:20201025T010000
END:STANDARD
BEGIN:DAYLIGHT
TZOFFSETFROM:+0100
TZOFFSETTO:+0200
TZNAME:CEST
DTSTART:20210328T010000
END:DAYLIGHT
BEGIN:STANDARD
TZOFFSETFROM:+0200
TZOFFSETTO:+0100
TZNAME:CET
DTSTART:20211031T010000
END:STANDARD
END:VTIMEZONE
BEGIN:VEVENT
DTSTART;VALUE=DATE:20200208
DTEND;VALUE=DATE:20200210
DTSTAMP:20260423T170042
CREATED:20191230T164009Z
LAST-MODIFIED:20191230T164009Z
UID:2618-1581120000-1581292799@cuthautdefrance5962.fr
SUMMARY:RING - CALAIS
DESCRIPTION:
URL:https://cuthautdefrance5962.fr/calendrier/ring-calais-3/
LOCATION:EDUCATION SPORT CANIN CALAIS\, Rue des Garennes\, CALAIS\, Pas de Calais\, 62100\, France
CATEGORIES:RING
END:VEVENT
BEGIN:VEVENT
DTSTART;VALUE=DATE:20200215
DTEND;VALUE=DATE:20200217
DTSTAMP:20260423T170042
CREATED:20191230T164253Z
LAST-MODIFIED:20191230T164253Z
UID:2620-1581724800-1581897599@cuthautdefrance5962.fr
SUMMARY:RING -TOURCOING
DESCRIPTION:
URL:https://cuthautdefrance5962.fr/calendrier/ring-tourcoing-3/
LOCATION:CERCLE CYNOPHYLE TOURQUENOIS\, Rue R. Schumann\, Terrain de la Bourgogne\, TOURCOING\, Nord\, France
CATEGORIES:RING
END:VEVENT
BEGIN:VEVENT
DTSTART;VALUE=DATE:20200215
DTEND;VALUE=DATE:20200217
DTSTAMP:20260423T170042
CREATED:20191230T164446Z
LAST-MODIFIED:20191230T164447Z
UID:2624-1581724800-1581897599@cuthautdefrance5962.fr
SUMMARY:RING - ANNEZIN
DESCRIPTION:
URL:https://cuthautdefrance5962.fr/calendrier/ring-annezin-3/
LOCATION:CLUB CYNOPHILE D’ANNEZIN\, Complexe sportif des bas champs\, ANNEZIN LES BEHUNES\, Pas de Calais\, 62232
CATEGORIES:RING
END:VEVENT
END:VCALENDAR