BEGIN:VCALENDAR
VERSION:2.0
PRODID:-//CUT Hauts de France 59/62 - ECPv6.15.20//NONSGML v1.0//EN
CALSCALE:GREGORIAN
METHOD:PUBLISH
X-WR-CALNAME:CUT Hauts de France 59/62
X-ORIGINAL-URL:https://cuthautdefrance5962.fr
X-WR-CALDESC:Évènements pour CUT Hauts de France 59/62
REFRESH-INTERVAL;VALUE=DURATION:PT1H
X-Robots-Tag:noindex
X-PUBLISHED-TTL:PT1H
BEGIN:VTIMEZONE
TZID:Europe/Paris
BEGIN:DAYLIGHT
TZOFFSETFROM:+0100
TZOFFSETTO:+0200
TZNAME:CEST
DTSTART:20180325T010000
END:DAYLIGHT
BEGIN:STANDARD
TZOFFSETFROM:+0200
TZOFFSETTO:+0100
TZNAME:CET
DTSTART:20181028T010000
END:STANDARD
BEGIN:DAYLIGHT
TZOFFSETFROM:+0100
TZOFFSETTO:+0200
TZNAME:CEST
DTSTART:20190331T010000
END:DAYLIGHT
BEGIN:STANDARD
TZOFFSETFROM:+0200
TZOFFSETTO:+0100
TZNAME:CET
DTSTART:20191027T010000
END:STANDARD
BEGIN:DAYLIGHT
TZOFFSETFROM:+0100
TZOFFSETTO:+0200
TZNAME:CEST
DTSTART:20200329T010000
END:DAYLIGHT
BEGIN:STANDARD
TZOFFSETFROM:+0200
TZOFFSETTO:+0100
TZNAME:CET
DTSTART:20201025T010000
END:STANDARD
END:VTIMEZONE
BEGIN:VEVENT
DTSTART;VALUE=DATE:20191005
DTEND;VALUE=DATE:20191007
DTSTAMP:20260424T051535
CREATED:20181227T162209Z
LAST-MODIFIED:20181227T162209Z
UID:2371-1570233600-1570406399@cuthautdefrance5962.fr
SUMMARY:RING - HULLUCH
DESCRIPTION:
URL:https://cuthautdefrance5962.fr/calendrier/ring-hulluch/
LOCATION:C.E.C. HULLUCH\, Rue Oberkampf (Fosse 13)\, HULLUCH\, Pas de Calais\, 62410 \, France
CATEGORIES:RING
END:VEVENT
BEGIN:VEVENT
DTSTART;VALUE=DATE:20191012
DTEND;VALUE=DATE:20191014
DTSTAMP:20260424T051535
CREATED:20181227T163405Z
LAST-MODIFIED:20181227T163405Z
UID:2376-1570838400-1571011199@cuthautdefrance5962.fr
SUMMARY:SELECTION HA -  UAC ORCHIES
DESCRIPTION:
URL:https://cuthautdefrance5962.fr/calendrier/selection-ha-uac-orchies/
LOCATION:CLUB CYNOPHILE D’ORCHIES\, Stade Municipal d'Orchies\, ORCHIES\, Nord\, 59310\, France
CATEGORIES:MONDIORING,RING
END:VEVENT
END:VCALENDAR